BEGIN:VCALENDAR
VERSION:2.0
PRODID:-//waldkirchen-im-vogtland.de - ECPv6.15.20//NONSGML v1.0//EN
CALSCALE:GREGORIAN
METHOD:PUBLISH
X-ORIGINAL-URL:https://www.waldkirchen-im-vogtland.de
X-WR-CALDESC:Veranstaltungen für waldkirchen-im-vogtland.de
REFRESH-INTERVAL;VALUE=DURATION:PT1H
X-Robots-Tag:noindex
X-PUBLISHED-TTL:PT1H
BEGIN:VTIMEZONE
TZID:Europe/Berlin
BEGIN:DAYLIGHT
TZOFFSETFROM:+0100
TZOFFSETTO:+0200
TZNAME:CEST
DTSTART:20220327T010000
END:DAYLIGHT
BEGIN:STANDARD
TZOFFSETFROM:+0200
TZOFFSETTO:+0100
TZNAME:CET
DTSTART:20221030T010000
END:STANDARD
BEGIN:DAYLIGHT
TZOFFSETFROM:+0100
TZOFFSETTO:+0200
TZNAME:CEST
DTSTART:20230326T010000
END:DAYLIGHT
BEGIN:STANDARD
TZOFFSETFROM:+0200
TZOFFSETTO:+0100
TZNAME:CET
DTSTART:20231029T010000
END:STANDARD
BEGIN:DAYLIGHT
TZOFFSETFROM:+0100
TZOFFSETTO:+0200
TZNAME:CEST
DTSTART:20240331T010000
END:DAYLIGHT
BEGIN:STANDARD
TZOFFSETFROM:+0200
TZOFFSETTO:+0100
TZNAME:CET
DTSTART:20241027T010000
END:STANDARD
END:VTIMEZONE
BEGIN:VEVENT
DTSTART;TZID=Europe/Berlin:20231201T170000
DTEND;TZID=Europe/Berlin:20231223T210000
DTSTAMP:20260422T231514
CREATED:20231115T094536Z
LAST-MODIFIED:20231115T094536Z
UID:19362-1701450000-1703365200@www.waldkirchen-im-vogtland.de
SUMMARY:Adventskalender 2023
DESCRIPTION:Auch in diesem Jahr findet wieder unser Waldkirchener Adventskalender statt. Alle Termine entnehmt ihr bitte aus unserem Plakat. Wir würden uns über eine rege Teilnahme freuen und wir sind überzeugt\, es ist auch diesmal wieder für jeden etwas dabei.
URL:https://www.waldkirchen-im-vogtland.de/veranstaltung/adventskalender-2023/
LOCATION:Sachsen
ATTACH;FMTTYPE=image/jpeg:https://www.waldkirchen-im-vogtland.de/wp-content/uploads/2018/11/adventskalender.jpg
ORGANIZER;CN="Dorfgemeinschaft Waldkirchen e.V.":MAILTO:info@waldkirchen-im-vogtland.de
END:VEVENT
BEGIN:VEVENT
DTSTART;VALUE=DATE:20231209
DTEND;VALUE=DATE:20231210
DTSTAMP:20260422T231514
CREATED:20230315T074324Z
LAST-MODIFIED:20231204T072601Z
UID:17313-1702080000-1702166399@www.waldkirchen-im-vogtland.de
SUMMARY:Adventsmarkt
DESCRIPTION:Am 9. Dezember wird der beliebte Adventsmarkt in Waldkirchen seine Pforten öffnen. Ab 16 Uhr erwartet Euch ein buntes weihnachtliches Treiben auf dem beleuchteten Edwinplatz. Es gibt natürlich an unseren Weihnachtshütten reichlich zu essen und zu trinken\, und gegen frostige Temperaturen hilft Glühwein und Kinderpunsch. Für lustige Bilder als Erinnerung sorgt auch diesmal wieder die Fotobox Große. \nDie kleinen Waldkirchner dürfen sich auf eine Bastelstraße freuen oder auf einem Pony eine Runde drehen. Und wer weiß\, vielleicht findet ja auch der Weihnachtsmann in seinen prallen Terminkalender ein freies Plätzchen und besucht Waldkirchen. \nAlso gleich vormerken.\nWaldkirchen freut sich auf Euch.
URL:https://www.waldkirchen-im-vogtland.de/veranstaltung/adventsmarkt/
LOCATION:Mehrgenerationsplatz Edwinhausen\, Hauptstr. 92\, Waldkirchen\, Sachsen\, 08485\, Deutschland
CATEGORIES:Allgemein,Dorfgemeinschaft Waldkirchen e.V.
ATTACH;FMTTYPE=image/jpeg:https://www.waldkirchen-im-vogtland.de/wp-content/uploads/2023/03/Weihnachtsmarkt.jpg
ORGANIZER;CN="Dorfgemeinschaft Waldkirchen e.V.":MAILTO:info@waldkirchen-im-vogtland.de
END:VEVENT
END:VCALENDAR