BEGIN:VCALENDAR
VERSION:2.0
PRODID:-//waldkirchen-im-vogtland.de - ECPv6.15.20//NONSGML v1.0//EN
CALSCALE:GREGORIAN
METHOD:PUBLISH
X-WR-CALNAME:waldkirchen-im-vogtland.de
X-ORIGINAL-URL:https://www.waldkirchen-im-vogtland.de
X-WR-CALDESC:Veranstaltungen für waldkirchen-im-vogtland.de
REFRESH-INTERVAL;VALUE=DURATION:PT1H
X-Robots-Tag:noindex
X-PUBLISHED-TTL:PT1H
BEGIN:VTIMEZONE
TZID:Europe/Berlin
BEGIN:DAYLIGHT
TZOFFSETFROM:+0100
TZOFFSETTO:+0200
TZNAME:CEST
DTSTART:20230326T010000
END:DAYLIGHT
BEGIN:STANDARD
TZOFFSETFROM:+0200
TZOFFSETTO:+0100
TZNAME:CET
DTSTART:20231029T010000
END:STANDARD
BEGIN:DAYLIGHT
TZOFFSETFROM:+0100
TZOFFSETTO:+0200
TZNAME:CEST
DTSTART:20240331T010000
END:DAYLIGHT
BEGIN:STANDARD
TZOFFSETFROM:+0200
TZOFFSETTO:+0100
TZNAME:CET
DTSTART:20241027T010000
END:STANDARD
BEGIN:DAYLIGHT
TZOFFSETFROM:+0100
TZOFFSETTO:+0200
TZNAME:CEST
DTSTART:20250330T010000
END:DAYLIGHT
BEGIN:STANDARD
TZOFFSETFROM:+0200
TZOFFSETTO:+0100
TZNAME:CET
DTSTART:20251026T010000
END:STANDARD
END:VTIMEZONE
BEGIN:VEVENT
DTSTART;TZID=Europe/Berlin:20240118T170000
DTEND;TZID=Europe/Berlin:20240118T200000
DTSTAMP:20260422T213012
CREATED:20231027T105948Z
LAST-MODIFIED:20231027T105948Z
UID:19322-1705597200-1705608000@www.waldkirchen-im-vogtland.de
SUMMARY:Dorfwerkstatt 2024
DESCRIPTION:
URL:https://www.waldkirchen-im-vogtland.de/veranstaltung/dorfwerkstatt-2024/
LOCATION:Waldkirchen\, Waldkirchen\, 08485
CATEGORIES:Allgemein
ATTACH;FMTTYPE=image/jpeg:https://www.waldkirchen-im-vogtland.de/wp-content/uploads/2020/10/Waldkirchen_1.Dorfwerkstatt_MThieme_20201008_2-scaled.jpg
END:VEVENT
END:VCALENDAR