BEGIN:VCALENDAR
VERSION:2.0
PRODID:-//waldkirchen-im-vogtland.de - ECPv6.15.20//NONSGML v1.0//EN
CALSCALE:GREGORIAN
METHOD:PUBLISH
X-ORIGINAL-URL:https://www.waldkirchen-im-vogtland.de
X-WR-CALDESC:Veranstaltungen für waldkirchen-im-vogtland.de
REFRESH-INTERVAL;VALUE=DURATION:PT1H
X-Robots-Tag:noindex
X-PUBLISHED-TTL:PT1H
BEGIN:VTIMEZONE
TZID:Europe/Berlin
BEGIN:DAYLIGHT
TZOFFSETFROM:+0100
TZOFFSETTO:+0200
TZNAME:CEST
DTSTART:20230326T010000
END:DAYLIGHT
BEGIN:STANDARD
TZOFFSETFROM:+0200
TZOFFSETTO:+0100
TZNAME:CET
DTSTART:20231029T010000
END:STANDARD
BEGIN:DAYLIGHT
TZOFFSETFROM:+0100
TZOFFSETTO:+0200
TZNAME:CEST
DTSTART:20240331T010000
END:DAYLIGHT
BEGIN:STANDARD
TZOFFSETFROM:+0200
TZOFFSETTO:+0100
TZNAME:CET
DTSTART:20241027T010000
END:STANDARD
BEGIN:DAYLIGHT
TZOFFSETFROM:+0100
TZOFFSETTO:+0200
TZNAME:CEST
DTSTART:20250330T010000
END:DAYLIGHT
BEGIN:STANDARD
TZOFFSETFROM:+0200
TZOFFSETTO:+0100
TZNAME:CET
DTSTART:20251026T010000
END:STANDARD
END:VTIMEZONE
BEGIN:VEVENT
DTSTART;TZID=Europe/Berlin:20240401T090000
DTEND;TZID=Europe/Berlin:20240401T120000
DTSTAMP:20260422T160720
CREATED:20240308T070541Z
LAST-MODIFIED:20240308T070611Z
UID:19667-1711962000-1711972800@www.waldkirchen-im-vogtland.de
SUMMARY:Edwin`s Entenrennen
DESCRIPTION:LIEBE ELTERN & KINDER AUFGEPASST! \nAm Ostermontag findet wieder unser beliebtes Entenrennen auf dem\nMehrgenerationsplatz Edwinhausen statt. Start ist 9:00 Uhr. Bitte seid zeitig vor Ort\nund sichert Euch die besten Startplätze. Tolle Preise warten wieder auf die Gewinner.\nSpass haben\, mitfiebern und gewinnen! Bist Du dabei?  \nFür einen kleinen Imbiss wird gesorgt.
URL:https://www.waldkirchen-im-vogtland.de/veranstaltung/edwins-entenrennen-2/
LOCATION:Mehrgenerationsplatz Edwinhausen\, Hauptstr. 92\, Waldkirchen\, Sachsen\, 08485\, Deutschland
CATEGORIES:Allgemein,Dorfgemeinschaft Waldkirchen e.V.
ATTACH;FMTTYPE=image/jpeg:https://www.waldkirchen-im-vogtland.de/wp-content/uploads/2024/03/DSC_5409-1.jpg
ORGANIZER;CN="Dorfgemeinschaft Waldkirchen e.V.":MAILTO:info@waldkirchen-im-vogtland.de
END:VEVENT
BEGIN:VEVENT
DTSTART;TZID=Europe/Berlin:20240401T140000
DTEND;TZID=Europe/Berlin:20240401T170000
DTSTAMP:20260422T160720
CREATED:20240309T064014Z
LAST-MODIFIED:20240309T064014Z
UID:19671-1711980000-1711990800@www.waldkirchen-im-vogtland.de
SUMMARY:Gottestdienst mit Einsegnung Pfarrerin Theilemann
DESCRIPTION:Weitere Informationen folgen.
URL:https://www.waldkirchen-im-vogtland.de/veranstaltung/gottestdienst-mit-einsegnung-pfarrerin-theilemann/
LOCATION:Kirche Waldkirchen\, Waldkirchen
CATEGORIES:Allgemein,Ev.-Luth. Kirchgemeinde Waldkirchen-Irfersgrün
ATTACH;FMTTYPE=image/jpeg:https://www.waldkirchen-im-vogtland.de/wp-content/uploads/2023/04/KircheWaldkirchen.jpg
ORGANIZER;CN="Ev.-Luth. Kirchgemeinde Waldkirchen-Irfersgr%C3%BCn":MAILTO:kg.waldkirchen_irfersgruen@evlks.de
END:VEVENT
END:VCALENDAR