BEGIN:VCALENDAR
VERSION:2.0
PRODID:-//waldkirchen-im-vogtland.de - ECPv6.15.20//NONSGML v1.0//EN
CALSCALE:GREGORIAN
METHOD:PUBLISH
X-WR-CALNAME:waldkirchen-im-vogtland.de
X-ORIGINAL-URL:https://www.waldkirchen-im-vogtland.de
X-WR-CALDESC:Veranstaltungen für waldkirchen-im-vogtland.de
REFRESH-INTERVAL;VALUE=DURATION:PT1H
X-Robots-Tag:noindex
X-PUBLISHED-TTL:PT1H
BEGIN:VTIMEZONE
TZID:Europe/Berlin
BEGIN:DAYLIGHT
TZOFFSETFROM:+0100
TZOFFSETTO:+0200
TZNAME:CEST
DTSTART:20230326T010000
END:DAYLIGHT
BEGIN:STANDARD
TZOFFSETFROM:+0200
TZOFFSETTO:+0100
TZNAME:CET
DTSTART:20231029T010000
END:STANDARD
BEGIN:DAYLIGHT
TZOFFSETFROM:+0100
TZOFFSETTO:+0200
TZNAME:CEST
DTSTART:20240331T010000
END:DAYLIGHT
BEGIN:STANDARD
TZOFFSETFROM:+0200
TZOFFSETTO:+0100
TZNAME:CET
DTSTART:20241027T010000
END:STANDARD
BEGIN:DAYLIGHT
TZOFFSETFROM:+0100
TZOFFSETTO:+0200
TZNAME:CEST
DTSTART:20250330T010000
END:DAYLIGHT
BEGIN:STANDARD
TZOFFSETFROM:+0200
TZOFFSETTO:+0100
TZNAME:CET
DTSTART:20251026T010000
END:STANDARD
END:VTIMEZONE
BEGIN:VEVENT
DTSTART;TZID=Europe/Berlin:20241023T130000
DTEND;TZID=Europe/Berlin:20241023T130000
DTSTAMP:20260422T061644
CREATED:20241021T041723Z
LAST-MODIFIED:20241021T041744Z
UID:20196-1729688400-1729688400@www.waldkirchen-im-vogtland.de
SUMMARY:Malerarbeiten Edwinhausen
DESCRIPTION:GESPERRT WEGEN MALERARBEITEN\nam Mittwoch\, den 23.10.24 \nUnser Spielplatz „Edwinhausen“ braucht einen neuen Anstrich.\nGEMEINSAM GEHTS BESSER 😁💪🏻\, deshalb freuen wir uns an reger Beteiligung\n🖌️ von Eltern und/oder Großeltern. Los geht’s gegen 13 Uhr.  \nWir freuen uns auf jede Hand\, die helfen kann!
URL:https://www.waldkirchen-im-vogtland.de/veranstaltung/malerarbeiten-edwinhausen/
LOCATION:Mehrgenerationsplatz Edwinhausen\, Hauptstr. 92\, Waldkirchen\, Sachsen\, 08485\, Deutschland
CATEGORIES:Allgemein,Dorfgemeinschaft Waldkirchen e.V.
ATTACH;FMTTYPE=image/jpeg:https://www.waldkirchen-im-vogtland.de/wp-content/uploads/2023/04/Edwinhausen.jpg
ORGANIZER;CN="Dorfgemeinschaft Waldkirchen e.V.":MAILTO:info@waldkirchen-im-vogtland.de
END:VEVENT
END:VCALENDAR