BEGIN:VCALENDAR
VERSION:2.0
PRODID:-//waldkirchen-im-vogtland.de - ECPv6.15.20//NONSGML v1.0//EN
CALSCALE:GREGORIAN
METHOD:PUBLISH
X-WR-CALNAME:waldkirchen-im-vogtland.de
X-ORIGINAL-URL:https://www.waldkirchen-im-vogtland.de
X-WR-CALDESC:Veranstaltungen für waldkirchen-im-vogtland.de
REFRESH-INTERVAL;VALUE=DURATION:PT1H
X-Robots-Tag:noindex
X-PUBLISHED-TTL:PT1H
BEGIN:VTIMEZONE
TZID:Europe/Berlin
BEGIN:DAYLIGHT
TZOFFSETFROM:+0100
TZOFFSETTO:+0200
TZNAME:CEST
DTSTART:20240331T010000
END:DAYLIGHT
BEGIN:STANDARD
TZOFFSETFROM:+0200
TZOFFSETTO:+0100
TZNAME:CET
DTSTART:20241027T010000
END:STANDARD
BEGIN:DAYLIGHT
TZOFFSETFROM:+0100
TZOFFSETTO:+0200
TZNAME:CEST
DTSTART:20250330T010000
END:DAYLIGHT
BEGIN:STANDARD
TZOFFSETFROM:+0200
TZOFFSETTO:+0100
TZNAME:CET
DTSTART:20251026T010000
END:STANDARD
BEGIN:DAYLIGHT
TZOFFSETFROM:+0100
TZOFFSETTO:+0200
TZNAME:CEST
DTSTART:20260329T010000
END:DAYLIGHT
BEGIN:STANDARD
TZOFFSETFROM:+0200
TZOFFSETTO:+0100
TZNAME:CET
DTSTART:20261025T010000
END:STANDARD
END:VTIMEZONE
BEGIN:VEVENT
DTSTART;VALUE=DATE:20251031
DTEND;VALUE=DATE:20251101
DTSTAMP:20260419T154533
CREATED:20250901T065800Z
LAST-MODIFIED:20250901T065800Z
UID:20835-1761868800-1761955199@www.waldkirchen-im-vogtland.de
SUMMARY:Orgelkonzert zum Reformationstag
DESCRIPTION:Altenglische Kostbarkeiten und Prächtiges von Georg Friedrich Händel \nWas haben die alten Briten und Händel miteinander zu tun? Zugespitzt: Der deutsche Jubilar aus Halle an der Saale ist ihr größter Komponist! Den Drang Englands nach festlicher Musik erfüllte der schwergewichtige Barockmeister nicht nur mit der Feuerwerks- und Wassermusik\, seine opulenten Oratorien in St. Pauls Cathedral waren für die Londoner Anlaß genug\, ihn auf dem „silbernen Tablett“ zu tragen. Ein passionierter Organist und Improvisator soll er zudem gewesen sein\, reine Orgelwerke hingegen gibt es von ihm nicht. So werden am Reformationsfreitag\, dem 31. Oktober 2025\, um 18:30 Uhr\, im Orgelkonzert des Universitätsorganisten Wieland Meinhold in der evangelischen Kirche zu Waldkirchen/ Vogtland Orgelbearbeitungen Händels mit Originalwerken von Tallis\, Philips\, Greene\, Stanley\, Bull\, Boyce und Purcell gepaart vorgetragen. Immer steht bei den Fantasien\, Preludes\, Airs\, Trumpet tunes und Voluntarys eine gemessene Repräsentationslust im Vordergrund. Händels Largo\, seine Ouvertüre und Doppelfuge g-Moll aber auch die berühmte Pifa und Sarabande dürften auf einer großen Orgel ihre Wirkung ebenso nicht verfehlen. Ganz am Anfang wird im organo pleno Händels Lehrer Friedrich Wilhelm Zachow mit „Ein‘ feste Burg“ vertreten sein. Davor\, bereits um 17:45 Uhr\, wird es anhand einer Orgelführung „Klangmajestät- Besuch bei der Königin“ auf der Empore spannend: Für alle Interessierten erläutert Dr. W. Meinhold die „Königin der Instrumente“ hautnah. Direkt neben dem Spieltisch der Schuster-Wolf-Orgel hat man Gelegenheit\, technische Details und Raffinessen zu erfahren. Immer wieder fesseln diese unterhaltsamen Orgelführungen die Besucher. Eine großzügige Spende erbittet man am Ausgang.
URL:https://www.waldkirchen-im-vogtland.de/veranstaltung/orgelkonzert-zum-reformationstag/
LOCATION:Kirche Waldkirchen\, Waldkirchen
CATEGORIES:Allgemein,Ev.-Luth. Kirchgemeinde Waldkirchen-Irfersgrün
ATTACH;FMTTYPE=image/jpeg:https://www.waldkirchen-im-vogtland.de/wp-content/uploads/2025/09/Orgelkonzert.jpg
ORGANIZER;CN="Ev.-Luth. Kirchgemeinde Waldkirchen-Irfersgr%C3%BCn":MAILTO:kg.waldkirchen_irfersgruen@evlks.de
END:VEVENT
END:VCALENDAR