BEGIN:VCALENDAR
VERSION:2.0
PRODID:-//waldkirchen-im-vogtland.de - ECPv6.15.20//NONSGML v1.0//EN
CALSCALE:GREGORIAN
METHOD:PUBLISH
X-ORIGINAL-URL:https://www.waldkirchen-im-vogtland.de
X-WR-CALDESC:Veranstaltungen für waldkirchen-im-vogtland.de
REFRESH-INTERVAL;VALUE=DURATION:PT1H
X-Robots-Tag:noindex
X-PUBLISHED-TTL:PT1H
BEGIN:VTIMEZONE
TZID:Europe/Berlin
BEGIN:DAYLIGHT
TZOFFSETFROM:+0100
TZOFFSETTO:+0200
TZNAME:CEST
DTSTART:20220327T010000
END:DAYLIGHT
BEGIN:STANDARD
TZOFFSETFROM:+0200
TZOFFSETTO:+0100
TZNAME:CET
DTSTART:20221030T010000
END:STANDARD
BEGIN:DAYLIGHT
TZOFFSETFROM:+0100
TZOFFSETTO:+0200
TZNAME:CEST
DTSTART:20230326T010000
END:DAYLIGHT
BEGIN:STANDARD
TZOFFSETFROM:+0200
TZOFFSETTO:+0100
TZNAME:CET
DTSTART:20231029T010000
END:STANDARD
BEGIN:DAYLIGHT
TZOFFSETFROM:+0100
TZOFFSETTO:+0200
TZNAME:CEST
DTSTART:20240331T010000
END:DAYLIGHT
BEGIN:STANDARD
TZOFFSETFROM:+0200
TZOFFSETTO:+0100
TZNAME:CET
DTSTART:20241027T010000
END:STANDARD
END:VTIMEZONE
BEGIN:VEVENT
DTSTART;TZID=Europe/Berlin:20230602T150000
DTEND;TZID=Europe/Berlin:20230602T180000
DTSTAMP:20260423T061103
CREATED:20230427T053227Z
LAST-MODIFIED:20230504T174947Z
UID:18238-1685718000-1685728800@www.waldkirchen-im-vogtland.de
SUMMARY:Kinder und Familienfest KiTa Pusteblume
DESCRIPTION:Am 02.06.2023 findet in der KiTa Pusteblume in Waldkirchen ein Kinder und Familienfest statt. Weitere Informationen entnehmt ihr bitte den Plakaten im Ort. Beginn der Veranstaltung ist 15:00 Uhr
URL:https://www.waldkirchen-im-vogtland.de/veranstaltung/kinder-und-familienfest-kita-pusteblume/
LOCATION:KiTa Pusteblume\, Hauptstraße 92\, Waldkirchen\, 08485\, Deutschland
CATEGORIES:Allgemein
ATTACH;FMTTYPE=image/jpeg:https://www.waldkirchen-im-vogtland.de/wp-content/uploads/2023/04/kinder-spielen-auf-dem-rasen.jpg
END:VEVENT
BEGIN:VEVENT
DTSTART;VALUE=DATE:20230610
DTEND;VALUE=DATE:20230611
DTSTAMP:20260423T061103
CREATED:20230312T084017Z
LAST-MODIFIED:20230312T084017Z
UID:17295-1686355200-1686441599@www.waldkirchen-im-vogtland.de
SUMMARY:Vereinsausfahrt Kleintierzüchter
DESCRIPTION:Ausfahrt nach Bamberg
URL:https://www.waldkirchen-im-vogtland.de/veranstaltung/vereinsausfahrt-kleintierzuechter/
LOCATION:Sachsen
CATEGORIES:Allgemein,Kleintierzüchter Waldkirchen e.V.
ATTACH;FMTTYPE=image/jpeg:https://www.waldkirchen-im-vogtland.de/wp-content/uploads/2023/03/kleintierzuechter.jpg
END:VEVENT
BEGIN:VEVENT
DTSTART;TZID=Europe/Berlin:20230629T150000
DTEND;TZID=Europe/Berlin:20230629T180000
DTSTAMP:20260423T061103
CREATED:20230616T113456Z
LAST-MODIFIED:20230616T113557Z
UID:18900-1688050800-1688061600@www.waldkirchen-im-vogtland.de
SUMMARY:Seniorennachmittag 29.06.23
DESCRIPTION:Frau Minnerop spricht zum Thema: „Besser hören – besser leben“ \nWIR FREUEN UNS AUF EUCH \nOb jung oder „älter“ wollen wir Euch im herzlich dazu einladen.\nWir bieten auch Kaffee und Kuchen an.\nWir bitten um Anmeldung unter 037606 / 2840 oder 2358
URL:https://www.waldkirchen-im-vogtland.de/veranstaltung/seniorennachmittag-29-06-23/
LOCATION:Bürgerhaus Waldkirchen\, Hauptstraße 62a\, Waldkirchen\, Sachsen\, 08485\, Deutschland
ATTACH;FMTTYPE=image/jpeg:https://www.waldkirchen-im-vogtland.de/wp-content/uploads/2023/06/seniorennachmitta1g.jpg
ORGANIZER;CN="Dorfgemeinschaft Waldkirchen e.V.":MAILTO:info@waldkirchen-im-vogtland.de
END:VEVENT
BEGIN:VEVENT
DTSTART;TZID=Europe/Berlin:20230629T190000
DTEND;TZID=Europe/Berlin:20230629T190000
DTSTAMP:20260423T061103
CREATED:20230605T065011Z
LAST-MODIFIED:20230605T065112Z
UID:18883-1688065200-1688065200@www.waldkirchen-im-vogtland.de
SUMMARY:1. - HILFE - KURS
DESCRIPTION:Du musst dringend dein Wissen für den Notfall auffrischen. Stabile Seitenlage\, Herzdruckmassage hast du zwar schon mal gehört\, kannst du aber nicht mehr umsetzen. Könntest du wirklich noch helfen\, wenn du der erste am Unfallort bist? Du bist dir unsicher? Komm vorbei!  \nDas Seminar wird von Enrico Fröhlich durchgeführt.\nEine Anmeldung ist nicht notwendig! Über eine kleine Spende würden wir uns freuen.
URL:https://www.waldkirchen-im-vogtland.de/veranstaltung/1-hilfe-kurs/
LOCATION:Bürgerhaus Waldkirchen\, Hauptstraße 62a\, Waldkirchen\, Sachsen\, 08485\, Deutschland
CATEGORIES:Allgemein,Dorfgemeinschaft Waldkirchen e.V.
ATTACH;FMTTYPE=image/jpeg:https://www.waldkirchen-im-vogtland.de/wp-content/uploads/2023/06/1HILFE.jpg
ORGANIZER;CN="Dorfgemeinschaft Waldkirchen e.V.":MAILTO:info@waldkirchen-im-vogtland.de
END:VEVENT
END:VCALENDAR