BEGIN:VCALENDAR
VERSION:2.0
PRODID:-//waldkirchen-im-vogtland.de - ECPv6.15.20//NONSGML v1.0//EN
CALSCALE:GREGORIAN
METHOD:PUBLISH
X-WR-CALNAME:waldkirchen-im-vogtland.de
X-ORIGINAL-URL:https://www.waldkirchen-im-vogtland.de
X-WR-CALDESC:Veranstaltungen für waldkirchen-im-vogtland.de
REFRESH-INTERVAL;VALUE=DURATION:PT1H
X-Robots-Tag:noindex
X-PUBLISHED-TTL:PT1H
BEGIN:VTIMEZONE
TZID:Europe/Berlin
BEGIN:DAYLIGHT
TZOFFSETFROM:+0100
TZOFFSETTO:+0200
TZNAME:CEST
DTSTART:20220327T010000
END:DAYLIGHT
BEGIN:STANDARD
TZOFFSETFROM:+0200
TZOFFSETTO:+0100
TZNAME:CET
DTSTART:20221030T010000
END:STANDARD
BEGIN:DAYLIGHT
TZOFFSETFROM:+0100
TZOFFSETTO:+0200
TZNAME:CEST
DTSTART:20230326T010000
END:DAYLIGHT
BEGIN:STANDARD
TZOFFSETFROM:+0200
TZOFFSETTO:+0100
TZNAME:CET
DTSTART:20231029T010000
END:STANDARD
BEGIN:DAYLIGHT
TZOFFSETFROM:+0100
TZOFFSETTO:+0200
TZNAME:CEST
DTSTART:20240331T010000
END:DAYLIGHT
BEGIN:STANDARD
TZOFFSETFROM:+0200
TZOFFSETTO:+0100
TZNAME:CET
DTSTART:20241027T010000
END:STANDARD
END:VTIMEZONE
BEGIN:VEVENT
DTSTART;VALUE=DATE:20230930
DTEND;VALUE=DATE:20231002
DTSTAMP:20260423T003526
CREATED:20230315T071736Z
LAST-MODIFIED:20230918T040904Z
UID:17305-1696032000-1696204799@www.waldkirchen-im-vogtland.de
SUMMARY:Obstschau / Vereinsausstellung
DESCRIPTION:Am 30. September bis zum 1. Oktober 2023 findet in Waldkirchen die Obstschau\nmit Vereinsausstellung in Waldkirchen statt. Wieder dabei ist auch diesmal die\nBaumschule Bauer aus Möschwitz (Baumverkauf) sowie ein Pomologe zur\nBestimmung der Obstsorten.  \nFür Kaffee\, Kuchen und Getränke wird natürlich gesorgt\,\nam Sonntag bieten wir zusätzlich leckere Soljanka und Wiener an. \nSamstag 30. September von 13:30 – 17:00 Uhr\nSonntag\, 01. Oktober von 10:00 – 17:00 Uhr
URL:https://www.waldkirchen-im-vogtland.de/veranstaltung/obstschau-waldkirchen-kleine-vereinsausstellung/
LOCATION:Bürgerhaus Waldkirchen\, Hauptstraße 62a\, Waldkirchen\, Sachsen\, 08485\, Deutschland
CATEGORIES:Obstbauverein
ATTACH;FMTTYPE=image/jpeg:https://www.waldkirchen-im-vogtland.de/wp-content/uploads/2023/03/obstschau.jpg
END:VEVENT
BEGIN:VEVENT
DTSTART;TZID=Europe/Berlin:20231028T093000
DTEND;TZID=Europe/Berlin:20231028T093000
DTSTAMP:20260423T003526
CREATED:20230930T071205Z
LAST-MODIFIED:20231028T043426Z
UID:19240-1698485400-1698485400@www.waldkirchen-im-vogtland.de
SUMMARY:Herbstputz Edwinhausen
DESCRIPTION:Am 28. Oktober putzen wir Edwinhausen \nNatürlich freuen wir uns auch diesmal über jede einzelne helfende Hand. \nAb 9:30 Uhr starten wir unsere Aktion. Alles aufräumen\, sauber machen\, Unrat beseitigen und alles winterfest machen steht auf dem Plan. Bist Du dabei?
URL:https://www.waldkirchen-im-vogtland.de/veranstaltung/herbstputz-edwinhausen/
LOCATION:Mehrgenerationsplatz Edwinhausen\, Hauptstr. 92\, Waldkirchen\, Sachsen\, 08485\, Deutschland
CATEGORIES:Allgemein,Dorfgemeinschaft Waldkirchen e.V.,Vereine
ATTACH;FMTTYPE=image/jpeg:https://www.waldkirchen-im-vogtland.de/wp-content/uploads/2023/04/Edwinhausen.jpg
ORGANIZER;CN="Dorfgemeinschaft Waldkirchen e.V.":MAILTO:info@waldkirchen-im-vogtland.de
END:VEVENT
BEGIN:VEVENT
DTSTART;TZID=Europe/Berlin:20231028T170000
DTEND;TZID=Europe/Berlin:20231028T210000
DTSTAMP:20260423T003526
CREATED:20230302T110147Z
LAST-MODIFIED:20230920T074554Z
UID:17250-1698512400-1698526800@www.waldkirchen-im-vogtland.de
SUMMARY:Karpfenessen 2023
DESCRIPTION:Am 28. Oktober findet unser traditionelles Karpfenessen im Bürgerhaus Waldkirchen statt. Ab 17 Uhr erwarten wir Euch zum Gaumenschmaus. Alternativ bieten wir\nRouladen an. Für die kleinen Genießer gibt es als Kindermenü Kloß\, Rotkraut und Soße.\nVereinsmitglieder essen vergünstigt.  \nAchtung: Unsere Kapazitäten sind auf 80 Personen begrenzt. Daher: Rechtzeitig anmelden! Die Anmeldeliste liegt bei Chrstina Riedel aus. Telefonische Anmeldung: 037606 / 2840. Bitte auch auf den AB sprechen und Nummer hinterlassen. Danke. \nWir freuen uns auf Euch.\nEure Dorfgemeinschaft Waldkirchen e.V. \nDu möchtest unseren Dorfverein aktiv oder passiv unterstützen und Vorteile und Vergünstigungen genießen? Für nur 12 € im Jahr bist du dabei. Sende uns deine Beitrittserklärung einfach per Mail oder werfe diese in unseren Briefkasten in der Hauptstraße 96. 08485 Waldkirchen. \nBeitrittserklärung
URL:https://www.waldkirchen-im-vogtland.de/veranstaltung/karpfenessen-2023/
LOCATION:Bürgerhaus Waldkirchen\, Hauptstraße 62a\, Waldkirchen\, Sachsen\, 08485\, Deutschland
CATEGORIES:Allgemein,Dorfgemeinschaft Waldkirchen e.V.
ATTACH;FMTTYPE=image/jpeg:https://www.waldkirchen-im-vogtland.de/wp-content/uploads/2023/03/karpfenessen.jpg
ORGANIZER;CN="Dorfgemeinschaft Waldkirchen e.V.":MAILTO:info@waldkirchen-im-vogtland.de
END:VEVENT
BEGIN:VEVENT
DTSTART;TZID=Europe/Berlin:20231030T160000
DTEND;TZID=Europe/Berlin:20231030T200000
DTSTAMP:20260423T003526
CREATED:20231002T105918Z
LAST-MODIFIED:20231002T110003Z
UID:19296-1698681600-1698696000@www.waldkirchen-im-vogtland.de
SUMMARY:Halloween 2023 in Waldkirchen
DESCRIPTION:Am 30. Oktober feiern wir wieder unser beliebtes Halloween – Fest auf dem Mehrgenerationsplatz Edwinhausen. Jeder ist gerne gesehen. Auch dieses Mal gibt es ein leckeres Mitbringbuffet. Das heißt\, jeder steuert etwas Leckeres bei\, bitte bringt auch Geschirr und Besteck mit. \nFür die Kinder findet dann ab 18:00 Uhr ein Laternenumzug mit der Feuerwehr statt. \n  \n 
URL:https://www.waldkirchen-im-vogtland.de/veranstaltung/halloween-2023-in-waldkirchen/
LOCATION:Mehrgenerationsplatz Edwinhausen\, Hauptstr. 92\, Waldkirchen\, Sachsen\, 08485\, Deutschland
CATEGORIES:Allgemein,Dorfgemeinschaft Waldkirchen e.V.
ATTACH;FMTTYPE=image/jpeg:https://www.waldkirchen-im-vogtland.de/wp-content/uploads/2023/10/three-cute-halloween-pumpkins-autumn-park-scaled.jpg
ORGANIZER;CN="Dorfgemeinschaft Waldkirchen e.V.":MAILTO:info@waldkirchen-im-vogtland.de
END:VEVENT
END:VCALENDAR