BEGIN:VCALENDAR
VERSION:2.0
PRODID:-//waldkirchen-im-vogtland.de - ECPv6.15.20//NONSGML v1.0//EN
CALSCALE:GREGORIAN
METHOD:PUBLISH
X-WR-CALNAME:waldkirchen-im-vogtland.de
X-ORIGINAL-URL:https://www.waldkirchen-im-vogtland.de
X-WR-CALDESC:Veranstaltungen für waldkirchen-im-vogtland.de
REFRESH-INTERVAL;VALUE=DURATION:PT1H
X-Robots-Tag:noindex
X-PUBLISHED-TTL:PT1H
BEGIN:VTIMEZONE
TZID:Europe/Berlin
BEGIN:DAYLIGHT
TZOFFSETFROM:+0100
TZOFFSETTO:+0200
TZNAME:CEST
DTSTART:20220327T010000
END:DAYLIGHT
BEGIN:STANDARD
TZOFFSETFROM:+0200
TZOFFSETTO:+0100
TZNAME:CET
DTSTART:20221030T010000
END:STANDARD
BEGIN:DAYLIGHT
TZOFFSETFROM:+0100
TZOFFSETTO:+0200
TZNAME:CEST
DTSTART:20230326T010000
END:DAYLIGHT
BEGIN:STANDARD
TZOFFSETFROM:+0200
TZOFFSETTO:+0100
TZNAME:CET
DTSTART:20231029T010000
END:STANDARD
BEGIN:DAYLIGHT
TZOFFSETFROM:+0100
TZOFFSETTO:+0200
TZNAME:CEST
DTSTART:20240331T010000
END:DAYLIGHT
BEGIN:STANDARD
TZOFFSETFROM:+0200
TZOFFSETTO:+0100
TZNAME:CET
DTSTART:20241027T010000
END:STANDARD
END:VTIMEZONE
BEGIN:VEVENT
DTSTART;TZID=Europe/Berlin:20231110T170000
DTEND;TZID=Europe/Berlin:20231110T200000
DTSTAMP:20260422T231234
CREATED:20231027T105409Z
LAST-MODIFIED:20231027T105542Z
UID:19315-1699635600-1699646400@www.waldkirchen-im-vogtland.de
SUMMARY:Martinsumzug in Waldkirchen
DESCRIPTION:
URL:https://www.waldkirchen-im-vogtland.de/veranstaltung/martinsumzug-in-waldkirchen/
LOCATION:Kirche Waldkirchen\, Waldkirchen
CATEGORIES:Allgemein
ATTACH;FMTTYPE=image/jpeg:https://www.waldkirchen-im-vogtland.de/wp-content/uploads/2023/10/Martinsumzug2.jpg
ORGANIZER;CN="Ev.-Luth. Kirchgemeinde Waldkirchen-Irfersgr%C3%BCn":MAILTO:kg.waldkirchen_irfersgruen@evlks.de
END:VEVENT
BEGIN:VEVENT
DTSTART;TZID=Europe/Berlin:20231117T193000
DTEND;TZID=Europe/Berlin:20231117T230000
DTSTAMP:20260422T231234
CREATED:20231027T105733Z
LAST-MODIFIED:20231028T055802Z
UID:19319-1700249400-1700262000@www.waldkirchen-im-vogtland.de
SUMMARY:Brokenhearted Brothers | Reborn
DESCRIPTION:
URL:https://www.waldkirchen-im-vogtland.de/veranstaltung/brokenhearted-brothers-reborn/
LOCATION:Kirche Waldkirchen\, Waldkirchen
ATTACH;FMTTYPE=image/jpeg:https://www.waldkirchen-im-vogtland.de/wp-content/uploads/2023/10/Reborn.jpg
ORGANIZER;CN="Ev.-Luth. Kirchgemeinde Waldkirchen-Irfersgr%C3%BCn":MAILTO:kg.waldkirchen_irfersgruen@evlks.de
END:VEVENT
BEGIN:VEVENT
DTSTART;TZID=Europe/Berlin:20231118T173000
DTEND;TZID=Europe/Berlin:20231118T235900
DTSTAMP:20260422T231234
CREATED:20230302T111330Z
LAST-MODIFIED:20231027T054734Z
UID:17259-1700328600-1700351940@www.waldkirchen-im-vogtland.de
SUMMARY:Herbsttanz 2023
DESCRIPTION:In Waldkirchen wird wieder getanzt…  \nEin Abend\, wie er früher einmal war. Mit Disco Decor\, stylischer Barlounge\, gutem Essen\, kühlen Getränken\, perfekter Tanzmusik und netten Menschen. \nEinlass 17:30 Uhr | Beginn 18:00 Uhr \nVorverkauf 28.10. bis 15.11. – 4 EUR | Abendkasse – 7 EUR  \nAb 16 Jahre – Vereinsmitglieder der Dorfgemeinschaft zahlen die Hälfte.
URL:https://www.waldkirchen-im-vogtland.de/veranstaltung/herbsttanz-2023/
LOCATION:Bürgerhaus Waldkirchen\, Hauptstraße 62a\, Waldkirchen\, Sachsen\, 08485\, Deutschland
CATEGORIES:Allgemein,Dorfgemeinschaft Waldkirchen e.V.
ATTACH;FMTTYPE=image/jpeg:https://www.waldkirchen-im-vogtland.de/wp-content/uploads/2023/03/herbstanz.jpg
ORGANIZER;CN="Dorfgemeinschaft Waldkirchen e.V.":MAILTO:info@waldkirchen-im-vogtland.de
END:VEVENT
BEGIN:VEVENT
DTSTART;VALUE=DATE:20231125
DTEND;VALUE=DATE:20231127
DTSTAMP:20260422T231234
CREATED:20230315T073441Z
LAST-MODIFIED:20230415T083918Z
UID:17308-1700870400-1701043199@www.waldkirchen-im-vogtland.de
SUMMARY:Vereinsschau Kleintierzüchter
DESCRIPTION:Weitere Informationen folgen.
URL:https://www.waldkirchen-im-vogtland.de/veranstaltung/vereinsschau-kleintierzuechter-kreisschau-kaninchen-kreis-reichenbach/
LOCATION:Turnhalle Waldkirchen\, Hauptstraße 92\, Waldkirchen\, Sachsen\, 08485\, Deutschland
CATEGORIES:Allgemein,Kleintierzüchter Waldkirchen e.V.
ATTACH;FMTTYPE=image/jpeg:https://www.waldkirchen-im-vogtland.de/wp-content/uploads/2023/03/kleintierzuechter-1.jpg
ORGANIZER;CN="Dorfgemeinschaft Waldkirchen e.V.":MAILTO:info@waldkirchen-im-vogtland.de
END:VEVENT
END:VCALENDAR