BEGIN:VCALENDAR
VERSION:2.0
PRODID:-//waldkirchen-im-vogtland.de - ECPv6.15.20//NONSGML v1.0//EN
CALSCALE:GREGORIAN
METHOD:PUBLISH
X-ORIGINAL-URL:https://www.waldkirchen-im-vogtland.de
X-WR-CALDESC:Veranstaltungen für waldkirchen-im-vogtland.de
REFRESH-INTERVAL;VALUE=DURATION:PT1H
X-Robots-Tag:noindex
X-PUBLISHED-TTL:PT1H
BEGIN:VTIMEZONE
TZID:Europe/Berlin
BEGIN:DAYLIGHT
TZOFFSETFROM:+0100
TZOFFSETTO:+0200
TZNAME:CEST
DTSTART:20230326T010000
END:DAYLIGHT
BEGIN:STANDARD
TZOFFSETFROM:+0200
TZOFFSETTO:+0100
TZNAME:CET
DTSTART:20231029T010000
END:STANDARD
BEGIN:DAYLIGHT
TZOFFSETFROM:+0100
TZOFFSETTO:+0200
TZNAME:CEST
DTSTART:20240331T010000
END:DAYLIGHT
BEGIN:STANDARD
TZOFFSETFROM:+0200
TZOFFSETTO:+0100
TZNAME:CET
DTSTART:20241027T010000
END:STANDARD
BEGIN:DAYLIGHT
TZOFFSETFROM:+0100
TZOFFSETTO:+0200
TZNAME:CEST
DTSTART:20250330T010000
END:DAYLIGHT
BEGIN:STANDARD
TZOFFSETFROM:+0200
TZOFFSETTO:+0100
TZNAME:CET
DTSTART:20251026T010000
END:STANDARD
END:VTIMEZONE
BEGIN:VEVENT
DTSTART;TZID=Europe/Berlin:20240322T183000
DTEND;TZID=Europe/Berlin:20240322T220000
DTSTAMP:20260422T161950
CREATED:20240131T094121Z
LAST-MODIFIED:20240131T094121Z
UID:19590-1711132200-1711144800@www.waldkirchen-im-vogtland.de
SUMMARY:Hauptversammlung Abteilung Faustball/Gymnastik
DESCRIPTION:Liebe Mitglieder\, \nhiermit laden wir euch herzlich zur Hauptversammlung der Abteilung Faustball/Gymnastik\nam 22.03.2024 um 18:30 Uhr in die Sportlerklause nach Waldkirchen ein. \nFür Essen und Getränke wird gesorgt sein.\nWir freuen uns auf eine rege Beteiligung. \nMit Sportlichen Grüßen eure Abteilungsleitung.
URL:https://www.waldkirchen-im-vogtland.de/veranstaltung/hauptversammlung-abteilung-faustball-gymnastik/
LOCATION:Sportlerheim Waldkirchen\, Sportplatzweg\, Waldkirchen\, Sachsen\, 08485\, Deutschland
ATTACH;FMTTYPE=image/jpeg:https://www.waldkirchen-im-vogtland.de/wp-content/uploads/2024/01/sgw.jpg
END:VEVENT
BEGIN:VEVENT
DTSTART;TZID=Europe/Berlin:20240323T093000
DTEND;TZID=Europe/Berlin:20240323T093000
DTSTAMP:20260422T161950
CREATED:20240307T122935Z
LAST-MODIFIED:20240307T123601Z
UID:19661-1711186200-1711186200@www.waldkirchen-im-vogtland.de
SUMMARY:Frühjahrsputz Edwinhausen
DESCRIPTION:
URL:https://www.waldkirchen-im-vogtland.de/veranstaltung/fruehjahrsputz-edwinplatz/
LOCATION:Mehrgenerationsplatz Edwinhausen\, Hauptstr. 92\, Waldkirchen\, Sachsen\, 08485\, Deutschland
CATEGORIES:Allgemein
ATTACH;FMTTYPE=image/jpeg:https://www.waldkirchen-im-vogtland.de/wp-content/uploads/2023/04/Edwinhausen.jpg
ORGANIZER;CN="Dorfgemeinschaft Waldkirchen e.V.":MAILTO:info@waldkirchen-im-vogtland.de
END:VEVENT
BEGIN:VEVENT
DTSTART;TZID=Europe/Berlin:20240323T100000
DTEND;TZID=Europe/Berlin:20240323T170000
DTSTAMP:20260422T161950
CREATED:20240309T064813Z
LAST-MODIFIED:20240309T065046Z
UID:19675-1711188000-1711213200@www.waldkirchen-im-vogtland.de
SUMMARY:1. Waldkirchener Flohmarkt
DESCRIPTION:
URL:https://www.waldkirchen-im-vogtland.de/veranstaltung/1-waldkirchener-flohmarkt/
LOCATION:Bürgerhaus Waldkirchen\, Hauptstraße 62a\, Waldkirchen\, Sachsen\, 08485\, Deutschland
ATTACH;FMTTYPE=image/jpeg:https://www.waldkirchen-im-vogtland.de/wp-content/uploads/2024/03/flohmarkt.jpg
END:VEVENT
END:VCALENDAR