BEGIN:VCALENDAR
VERSION:2.0
PRODID:-//waldkirchen-im-vogtland.de - ECPv6.15.20//NONSGML v1.0//EN
CALSCALE:GREGORIAN
METHOD:PUBLISH
X-ORIGINAL-URL:https://www.waldkirchen-im-vogtland.de
X-WR-CALDESC:Veranstaltungen für waldkirchen-im-vogtland.de
REFRESH-INTERVAL;VALUE=DURATION:PT1H
X-Robots-Tag:noindex
X-PUBLISHED-TTL:PT1H
BEGIN:VTIMEZONE
TZID:Europe/Berlin
BEGIN:DAYLIGHT
TZOFFSETFROM:+0100
TZOFFSETTO:+0200
TZNAME:CEST
DTSTART:20230326T010000
END:DAYLIGHT
BEGIN:STANDARD
TZOFFSETFROM:+0200
TZOFFSETTO:+0100
TZNAME:CET
DTSTART:20231029T010000
END:STANDARD
BEGIN:DAYLIGHT
TZOFFSETFROM:+0100
TZOFFSETTO:+0200
TZNAME:CEST
DTSTART:20240331T010000
END:DAYLIGHT
BEGIN:STANDARD
TZOFFSETFROM:+0200
TZOFFSETTO:+0100
TZNAME:CET
DTSTART:20241027T010000
END:STANDARD
BEGIN:DAYLIGHT
TZOFFSETFROM:+0100
TZOFFSETTO:+0200
TZNAME:CEST
DTSTART:20250330T010000
END:DAYLIGHT
BEGIN:STANDARD
TZOFFSETFROM:+0200
TZOFFSETTO:+0100
TZNAME:CET
DTSTART:20251026T010000
END:STANDARD
END:VTIMEZONE
BEGIN:VEVENT
DTSTART;TZID=Europe/Berlin:20241207T160000
DTEND;TZID=Europe/Berlin:20241207T230000
DTSTAMP:20260422T014328
CREATED:20240309T072455Z
LAST-MODIFIED:20241113T194220Z
UID:19701-1733587200-1733612400@www.waldkirchen-im-vogtland.de
SUMMARY:Adventsmarkt 2024
DESCRIPTION:Weitere Informationen folgen.
URL:https://www.waldkirchen-im-vogtland.de/veranstaltung/adventsmarkt-2024/
LOCATION:Mehrgenerationsplatz Edwinhausen\, Hauptstr. 92\, Waldkirchen\, Sachsen\, 08485\, Deutschland
CATEGORIES:Allgemein,Dorfgemeinschaft Waldkirchen e.V.
ATTACH;FMTTYPE=image/jpeg:https://www.waldkirchen-im-vogtland.de/wp-content/uploads/2023/12/DSC_3195.jpg
ORGANIZER;CN="Dorfgemeinschaft Waldkirchen e.V.":MAILTO:info@waldkirchen-im-vogtland.de
END:VEVENT
BEGIN:VEVENT
DTSTART;TZID=Europe/Berlin:20241213T170000
DTEND;TZID=Europe/Berlin:20241213T220000
DTSTAMP:20260422T014328
CREATED:20241210T050005Z
LAST-MODIFIED:20241210T050125Z
UID:20273-1734109200-1734127200@www.waldkirchen-im-vogtland.de
SUMMARY:Glühwein-Taxi macht Station im Säcklemarkt
DESCRIPTION:
URL:https://www.waldkirchen-im-vogtland.de/veranstaltung/gluehwein-taxi-macht-station-im-saecklemarkt/
LOCATION:Waldkirchen\, Waldkirchen\, 08485
CATEGORIES:Allgemein
ATTACH;FMTTYPE=image/jpeg:https://www.waldkirchen-im-vogtland.de/wp-content/uploads/2024/12/Taxi.jpg
ORGANIZER;CN="Dorfgemeinschaft Waldkirchen e.V.":MAILTO:info@waldkirchen-im-vogtland.de
END:VEVENT
BEGIN:VEVENT
DTSTART;TZID=Europe/Berlin:20241220T170000
DTEND;TZID=Europe/Berlin:20241220T220000
DTSTAMP:20260422T014328
CREATED:20241210T050548Z
LAST-MODIFIED:20241215T074231Z
UID:20279-1734714000-1734732000@www.waldkirchen-im-vogtland.de
SUMMARY:Glühwein-Taxi macht Station in der Waldsiedlung
DESCRIPTION:Wir treffen uns in der Waldsiedlung Nummer 63.
URL:https://www.waldkirchen-im-vogtland.de/veranstaltung/gluehwein-taxi-macht-station-in-der-waldsiedlung/
LOCATION:Waldkirchen\, Waldkirchen\, 08485
CATEGORIES:Allgemein
ATTACH;FMTTYPE=image/jpeg:https://www.waldkirchen-im-vogtland.de/wp-content/uploads/2024/12/Taxi.jpg
ORGANIZER;CN="Dorfgemeinschaft Waldkirchen e.V.":MAILTO:info@waldkirchen-im-vogtland.de
END:VEVENT
BEGIN:VEVENT
DTSTART;TZID=Europe/Berlin:20241224T150000
DTEND;TZID=Europe/Berlin:20241224T170000
DTSTAMP:20260422T014328
CREATED:20241210T050947Z
LAST-MODIFIED:20241210T050947Z
UID:20283-1735052400-1735059600@www.waldkirchen-im-vogtland.de
SUMMARY:Christvesper mit Krippenspiel
DESCRIPTION:
URL:https://www.waldkirchen-im-vogtland.de/veranstaltung/christvesper-mit-krippenspiel/
LOCATION:Kirche Waldkirchen\, Waldkirchen
CATEGORIES:Allgemein
ATTACH;FMTTYPE=image/jpeg:https://www.waldkirchen-im-vogtland.de/wp-content/uploads/2017/12/Krippenspiel.jpg
ORGANIZER;CN="Ev.-Luth. Kirchgemeinde Waldkirchen-Irfersgr%C3%BCn":MAILTO:kg.waldkirchen_irfersgruen@evlks.de
END:VEVENT
BEGIN:VEVENT
DTSTART;TZID=Europe/Berlin:20241229T100000
DTEND;TZID=Europe/Berlin:20241229T170000
DTSTAMP:20260422T014328
CREATED:20240309T072800Z
LAST-MODIFIED:20241229T043249Z
UID:19703-1735466400-1735491600@www.waldkirchen-im-vogtland.de
SUMMARY:Kleintiermarkt
DESCRIPTION:Weitere Informationen folgen.
URL:https://www.waldkirchen-im-vogtland.de/veranstaltung/kleintiermarkt/
LOCATION:Turnhalle Waldkirchen\, Hauptstraße 92\, Waldkirchen\, Sachsen\, 08485\, Deutschland
CATEGORIES:Allgemein,Dorfgemeinschaft Waldkirchen e.V.,Kleintierzüchter Waldkirchen e.V.
ATTACH;FMTTYPE=image/jpeg:https://www.waldkirchen-im-vogtland.de/wp-content/uploads/2023/03/kleintierzuechter.jpg
ORGANIZER;CN="Kleintierz%C3%BCchter Waldkirchen":MAILTO:info@waldkirchen-im-vogtland.de
END:VEVENT
END:VCALENDAR