BEGIN:VCALENDAR
VERSION:2.0
PRODID:-//waldkirchen-im-vogtland.de - ECPv6.15.20//NONSGML v1.0//EN
CALSCALE:GREGORIAN
METHOD:PUBLISH
X-ORIGINAL-URL:https://www.waldkirchen-im-vogtland.de
X-WR-CALDESC:Veranstaltungen für waldkirchen-im-vogtland.de
REFRESH-INTERVAL;VALUE=DURATION:PT1H
X-Robots-Tag:noindex
X-PUBLISHED-TTL:PT1H
BEGIN:VTIMEZONE
TZID:Europe/Berlin
BEGIN:DAYLIGHT
TZOFFSETFROM:+0100
TZOFFSETTO:+0200
TZNAME:CEST
DTSTART:20240331T010000
END:DAYLIGHT
BEGIN:STANDARD
TZOFFSETFROM:+0200
TZOFFSETTO:+0100
TZNAME:CET
DTSTART:20241027T010000
END:STANDARD
BEGIN:DAYLIGHT
TZOFFSETFROM:+0100
TZOFFSETTO:+0200
TZNAME:CEST
DTSTART:20250330T010000
END:DAYLIGHT
BEGIN:STANDARD
TZOFFSETFROM:+0200
TZOFFSETTO:+0100
TZNAME:CET
DTSTART:20251026T010000
END:STANDARD
BEGIN:DAYLIGHT
TZOFFSETFROM:+0100
TZOFFSETTO:+0200
TZNAME:CEST
DTSTART:20260329T010000
END:DAYLIGHT
BEGIN:STANDARD
TZOFFSETFROM:+0200
TZOFFSETTO:+0100
TZNAME:CET
DTSTART:20261025T010000
END:STANDARD
END:VTIMEZONE
BEGIN:VEVENT
DTSTART;TZID=Europe/Berlin:20250208T170000
DTEND;TZID=Europe/Berlin:20250208T210000
DTSTAMP:20260421T224617
CREATED:20250123T141856Z
LAST-MODIFIED:20250123T141856Z
UID:20498-1739034000-1739048400@www.waldkirchen-im-vogtland.de
SUMMARY:Fichten vernichten
DESCRIPTION:
URL:https://www.waldkirchen-im-vogtland.de/veranstaltung/fichten-vernichten-2/
LOCATION:Mehrgenerationsplatz Edwinhausen\, Hauptstr. 92\, Waldkirchen\, Sachsen\, 08485\, Deutschland
ATTACH;FMTTYPE=image/webp:https://www.waldkirchen-im-vogtland.de/wp-content/uploads/2025/01/DSC_3491.webp
ORGANIZER;CN="Dorfgemeinschaft Waldkirchen e.V.":MAILTO:info@waldkirchen-im-vogtland.de
END:VEVENT
BEGIN:VEVENT
DTSTART;TZID=Europe/Berlin:20250213T190000
DTEND;TZID=Europe/Berlin:20250213T210000
DTSTAMP:20260421T224617
CREATED:20250123T143008Z
LAST-MODIFIED:20250209T083714Z
UID:20502-1739473200-1739480400@www.waldkirchen-im-vogtland.de
SUMMARY:Bürgerforum
DESCRIPTION:
URL:https://www.waldkirchen-im-vogtland.de/veranstaltung/buergerforum-2025/
LOCATION:Bürgerhaus Waldkirchen\, Hauptstraße 62a\, Waldkirchen\, Sachsen\, 08485\, Deutschland
ATTACH;FMTTYPE=image/jpeg:https://www.waldkirchen-im-vogtland.de/wp-content/uploads/2023/09/Buergerhaus.jpg
END:VEVENT
BEGIN:VEVENT
DTSTART;VALUE=DATE:20250223
DTEND;VALUE=DATE:20250224
DTSTAMP:20260421T224617
CREATED:20250217T112921Z
LAST-MODIFIED:20250217T112921Z
UID:20538-1740268800-1740355199@www.waldkirchen-im-vogtland.de
SUMMARY:Bundestagswahl
DESCRIPTION:
URL:https://www.waldkirchen-im-vogtland.de/veranstaltung/bundestagswahl/
LOCATION:Bürgerhaus Waldkirchen\, Hauptstraße 62a\, Waldkirchen\, Sachsen\, 08485\, Deutschland
CATEGORIES:Allgemein
ATTACH;FMTTYPE=image/jpeg:https://www.waldkirchen-im-vogtland.de/wp-content/uploads/2023/09/Buergerhaus.jpg
END:VEVENT
END:VCALENDAR