BEGIN:VCALENDAR
VERSION:2.0
PRODID:-//waldkirchen-im-vogtland.de - ECPv6.15.20//NONSGML v1.0//EN
CALSCALE:GREGORIAN
METHOD:PUBLISH
X-WR-CALNAME:waldkirchen-im-vogtland.de
X-ORIGINAL-URL:https://www.waldkirchen-im-vogtland.de
X-WR-CALDESC:Veranstaltungen für waldkirchen-im-vogtland.de
REFRESH-INTERVAL;VALUE=DURATION:PT1H
X-Robots-Tag:noindex
X-PUBLISHED-TTL:PT1H
BEGIN:VTIMEZONE
TZID:Europe/Berlin
BEGIN:DAYLIGHT
TZOFFSETFROM:+0100
TZOFFSETTO:+0200
TZNAME:CEST
DTSTART:20240331T010000
END:DAYLIGHT
BEGIN:STANDARD
TZOFFSETFROM:+0200
TZOFFSETTO:+0100
TZNAME:CET
DTSTART:20241027T010000
END:STANDARD
BEGIN:DAYLIGHT
TZOFFSETFROM:+0100
TZOFFSETTO:+0200
TZNAME:CEST
DTSTART:20250330T010000
END:DAYLIGHT
BEGIN:STANDARD
TZOFFSETFROM:+0200
TZOFFSETTO:+0100
TZNAME:CET
DTSTART:20251026T010000
END:STANDARD
BEGIN:DAYLIGHT
TZOFFSETFROM:+0100
TZOFFSETTO:+0200
TZNAME:CEST
DTSTART:20260329T010000
END:DAYLIGHT
BEGIN:STANDARD
TZOFFSETFROM:+0200
TZOFFSETTO:+0100
TZNAME:CET
DTSTART:20261025T010000
END:STANDARD
END:VTIMEZONE
BEGIN:VEVENT
DTSTART;VALUE=DATE:20250501
DTEND;VALUE=DATE:20250502
DTSTAMP:20260421T181406
CREATED:20250217T125113Z
LAST-MODIFIED:20250421T052040Z
UID:20558-1746057600-1746143999@www.waldkirchen-im-vogtland.de
SUMMARY:1. Maiwanderung
DESCRIPTION:
URL:https://www.waldkirchen-im-vogtland.de/veranstaltung/1-maiwanderung/
LOCATION:Sportplatz Waldkirchen\, Sportplatzweg\, Waldkirchen\, Sachsen\, 08485\, Deutschland
CATEGORIES:Allgemein,Dorfgemeinschaft Waldkirchen e.V.,SG Waldkirchen e.V.,SG Waldkirchen e.V. - Abteilung Faustball,SG Waldkirchen e.V. - Abteilung Schach,SG Waldkirchen e.V. - Gymnastik
ATTACH;FMTTYPE=image/jpeg:https://www.waldkirchen-im-vogtland.de/wp-content/uploads/2024/05/Anstieg-nach-Start-in-WK.jpg
ORGANIZER;CN="Dorfgemeinschaft Waldkirchen e.V.":MAILTO:info@waldkirchen-im-vogtland.de
END:VEVENT
BEGIN:VEVENT
DTSTART;TZID=Europe/Berlin:20250506T190000
DTEND;TZID=Europe/Berlin:20250506T210000
DTSTAMP:20260421T181406
CREATED:20250217T125906Z
LAST-MODIFIED:20250504T044052Z
UID:20561-1746558000-1746565200@www.waldkirchen-im-vogtland.de
SUMMARY:Ortschaftsratssitzung
DESCRIPTION:
URL:https://www.waldkirchen-im-vogtland.de/veranstaltung/ortschaftsratssitzung-3/
LOCATION:Jugendclub Waldkirchen\, Hauptstraße 62A\, Waldkirchen\, 08485
CATEGORIES:Allgemein
ATTACH;FMTTYPE=image/jpeg:https://www.waldkirchen-im-vogtland.de/wp-content/uploads/2017/12/Buergerhaus_01.jpg
END:VEVENT
BEGIN:VEVENT
DTSTART;TZID=Europe/Berlin:20250507T183000
DTEND;TZID=Europe/Berlin:20250507T210000
DTSTAMP:20260421T181406
CREATED:20250504T045013Z
LAST-MODIFIED:20250504T045013Z
UID:20761-1746642600-1746651600@www.waldkirchen-im-vogtland.de
SUMMARY:Offener Stammtisch
DESCRIPTION:Am Mittwoch lädt dich die Bürgerinitiative Lengenfeld mit ihrem Bürgermeisterkandidat im Sportlerheim Waldkirchen ein. Wer sich vom BIL-Kandidaten einen Eindruck verschaffen möchte\, ist hierfür natürlich herzlich zum offenen Stammtisch eingeladen. Außerdem wird es nach aktuellem Stand in Hinblick auf die Bürgermeisterwahl noch am 21.05. eine Art Kandidatenvorstellung mit Podiumsdiskussion aller 3 BM-Kandidaten in Lengenfeld geben.
URL:https://www.waldkirchen-im-vogtland.de/veranstaltung/offener-stammtisch/
LOCATION:Sportlerheim Waldkirchen\, Sportplatzweg\, Waldkirchen\, Sachsen\, 08485\, Deutschland
CATEGORIES:Allgemein
ATTACH;FMTTYPE=image/jpeg:https://www.waldkirchen-im-vogtland.de/wp-content/uploads/2017/12/Sportlerheim_1.jpg
END:VEVENT
END:VCALENDAR