BEGIN:VCALENDAR
VERSION:2.0
PRODID:-//waldkirchen-im-vogtland.de - ECPv6.15.20//NONSGML v1.0//EN
CALSCALE:GREGORIAN
METHOD:PUBLISH
X-WR-CALNAME:waldkirchen-im-vogtland.de
X-ORIGINAL-URL:https://www.waldkirchen-im-vogtland.de
X-WR-CALDESC:Veranstaltungen für waldkirchen-im-vogtland.de
REFRESH-INTERVAL;VALUE=DURATION:PT1H
X-Robots-Tag:noindex
X-PUBLISHED-TTL:PT1H
BEGIN:VTIMEZONE
TZID:Europe/Berlin
BEGIN:DAYLIGHT
TZOFFSETFROM:+0100
TZOFFSETTO:+0200
TZNAME:CEST
DTSTART:20250330T010000
END:DAYLIGHT
BEGIN:STANDARD
TZOFFSETFROM:+0200
TZOFFSETTO:+0100
TZNAME:CET
DTSTART:20251026T010000
END:STANDARD
BEGIN:DAYLIGHT
TZOFFSETFROM:+0100
TZOFFSETTO:+0200
TZNAME:CEST
DTSTART:20260329T010000
END:DAYLIGHT
BEGIN:STANDARD
TZOFFSETFROM:+0200
TZOFFSETTO:+0100
TZNAME:CET
DTSTART:20261025T010000
END:STANDARD
BEGIN:DAYLIGHT
TZOFFSETFROM:+0100
TZOFFSETTO:+0200
TZNAME:CEST
DTSTART:20270328T010000
END:DAYLIGHT
BEGIN:STANDARD
TZOFFSETFROM:+0200
TZOFFSETTO:+0100
TZNAME:CET
DTSTART:20271031T010000
END:STANDARD
END:VTIMEZONE
BEGIN:VEVENT
DTSTART;TZID=Europe/Berlin:20260124T170000
DTEND;TZID=Europe/Berlin:20260124T220000
DTSTAMP:20260421T103658
CREATED:20251104T082944Z
LAST-MODIFIED:20260106T051028Z
UID:21105-1769274000-1769292000@www.waldkirchen-im-vogtland.de
SUMMARY:Fichtenvernichten
DESCRIPTION:
URL:https://www.waldkirchen-im-vogtland.de/veranstaltung/fichtenvernichten/
LOCATION:Mehrgenerationsplatz Edwinhausen\, Hauptstr. 92\, Waldkirchen\, Sachsen\, 08485\, Deutschland
CATEGORIES:Allgemein,Dorfgemeinschaft Waldkirchen e.V.
ATTACH;FMTTYPE=image/jpeg:https://www.waldkirchen-im-vogtland.de/wp-content/uploads/2024/02/DSC_3483.jpg
ORGANIZER;CN="Dorfgemeinschaft Waldkirchen e.V.":MAILTO:info@waldkirchen-im-vogtland.de
END:VEVENT
BEGIN:VEVENT
DTSTART;TZID=Europe/Berlin:20260129T190000
DTEND;TZID=Europe/Berlin:20260129T210000
DTSTAMP:20260421T103658
CREATED:20260124T101836Z
LAST-MODIFIED:20260125T061703Z
UID:21262-1769713200-1769720400@www.waldkirchen-im-vogtland.de
SUMMARY:JHVS Dorfgemeinschaft
DESCRIPTION:Am kommenden Donnerstag\, dem 29.01.26 findet unser Jahreshauptversammlung mit Vorstandswahl der „Dorfgemeinschaft Waldkirchen e.V.“ im Bürgerhaus Waldkirchen statt. Beginn ist 19 Uhr. Wir freuen uns auf zahlreiches erscheinen der Mitglieder und Interessenten. \nWenn Du noch kein Mitglied bist\, komm einfach vorbei\, erfahre was für 2026 geplant ist und wir uns alles vorgenommen haben. Mitgliedsanträge für Kurzentschlossene haben wir natürlich parat. \nWir freuen uns auf Euch. \nMitgliedsantrag
URL:https://www.waldkirchen-im-vogtland.de/veranstaltung/jhvs-dorfgemeinschaft/
LOCATION:Bürgerhaus Waldkirchen\, Hauptstraße 62a\, Waldkirchen\, Sachsen\, 08485\, Deutschland
CATEGORIES:Allgemein,Dorfgemeinschaft Waldkirchen e.V.
ATTACH;FMTTYPE=image/jpeg:https://www.waldkirchen-im-vogtland.de/wp-content/uploads/2023/09/Buergerhaus.jpg
ORGANIZER;CN="Dorfgemeinschaft Waldkirchen e.V.":MAILTO:info@waldkirchen-im-vogtland.de
END:VEVENT
END:VCALENDAR